BEGIN:VCALENDAR
PRODID:http://www.kufer.de/kuferweb / DE
VERSION:2.0
METHOD:PUBLISH
CALSCALE:GREGORIAN
X-WR-TIMEZONE:Europe/Berlin
BEGIN:VTIMEZONE
TZID:Europe/Berlin
X-LIC-LOCATION:Europe/Berlin
BEGIN:DAYLIGHT
TZOFFSETFROM:+0100
TZOFFSETTO:+0200
TZNAME:CEST
DTSTART;TZID=Europe/Berlin:19700329T020000
RRULE:FREQ=YEARLY;INTERVAL=1;BYDAY=-1SU;BYMONTH=3
END:DAYLIGHT
BEGIN:STANDARD
TZOFFSETFROM:+0200
TZOFFSETTO:+0100
TZNAME:CET
DTSTART;TZID=Europe/Berlin:19701025T030000
RRULE:FREQ=YEARLY;INTERVAL=1;BYDAY=-1SU;BYMONTH=10
END:STANDARD
END:VTIMEZONE
BEGIN:VEVENT
DTSTAMP:20260424T160845
DTSTART;TZID=Europe/Berlin:20260427T133000
DTEND;TZID=Europe/Berlin:20260427T173000
UID:261404681N-20260427T133000@VHSSINSHEIM
SUMMARY:Integrationskurs 223 - A1.1 (Allgemein) - nachmittags (261404681N) 
LOCATION:Haus der Volkshochschule; Raum 303, Muthstraße 16a, 74889 Sinsheim
END:VEVENT
BEGIN:VEVENT
DTSTAMP:20260424T160845
DTSTART;TZID=Europe/Berlin:20260428T133000
DTEND;TZID=Europe/Berlin:20260428T173000
UID:261404681N-20260428T133000@VHSSINSHEIM
SUMMARY:Integrationskurs 223 - A1.1 (Allgemein) - nachmittags (261404681N) 
LOCATION:Haus der Volkshochschule; Raum 303, Muthstraße 16a, 74889 Sinsheim
END:VEVENT
BEGIN:VEVENT
DTSTAMP:20260424T160845
DTSTART;TZID=Europe/Berlin:20260429T133000
DTEND;TZID=Europe/Berlin:20260429T173000
UID:261404681N-20260429T133000@VHSSINSHEIM
SUMMARY:Integrationskurs 223 - A1.1 (Allgemein) - nachmittags (261404681N) 
LOCATION:Haus der Volkshochschule; Raum 303, Muthstraße 16a, 74889 Sinsheim
END:VEVENT
BEGIN:VEVENT
DTSTAMP:20260424T160845
DTSTART;TZID=Europe/Berlin:20260430T133000
DTEND;TZID=Europe/Berlin:20260430T173000
UID:261404681N-20260430T133000@VHSSINSHEIM
SUMMARY:Integrationskurs 223 - A1.1 (Allgemein) - nachmittags (261404681N) 
LOCATION:Haus der Volkshochschule; Raum 303, Muthstraße 16a, 74889 Sinsheim
END:VEVENT
BEGIN:VEVENT
DTSTAMP:20260424T160845
DTSTART;TZID=Europe/Berlin:20260504T133000
DTEND;TZID=Europe/Berlin:20260504T173000
UID:261404681N-20260504T133000@VHSSINSHEIM
SUMMARY:Integrationskurs 223 - A1.1 (Allgemein) - nachmittags (261404681N) 
LOCATION:Haus der Volkshochschule; Raum 303, Muthstraße 16a, 74889 Sinsheim
END:VEVENT
BEGIN:VEVENT
DTSTAMP:20260424T160845
DTSTART;TZID=Europe/Berlin:20260505T133000
DTEND;TZID=Europe/Berlin:20260505T173000
UID:261404681N-20260505T133000@VHSSINSHEIM
SUMMARY:Integrationskurs 223 - A1.1 (Allgemein) - nachmittags (261404681N) 
LOCATION:Haus der Volkshochschule; Raum 303, Muthstraße 16a, 74889 Sinsheim
END:VEVENT
BEGIN:VEVENT
DTSTAMP:20260424T160845
DTSTART;TZID=Europe/Berlin:20260506T133000
DTEND;TZID=Europe/Berlin:20260506T173000
UID:261404681N-20260506T133000@VHSSINSHEIM
SUMMARY:Integrationskurs 223 - A1.1 (Allgemein) - nachmittags (261404681N) 
LOCATION:Haus der Volkshochschule; Raum 303, Muthstraße 16a, 74889 Sinsheim
END:VEVENT
BEGIN:VEVENT
DTSTAMP:20260424T160845
DTSTART;TZID=Europe/Berlin:20260507T133000
DTEND;TZID=Europe/Berlin:20260507T173000
UID:261404681N-20260507T133000@VHSSINSHEIM
SUMMARY:Integrationskurs 223 - A1.1 (Allgemein) - nachmittags (261404681N) 
LOCATION:Haus der Volkshochschule; Raum 303, Muthstraße 16a, 74889 Sinsheim
END:VEVENT
BEGIN:VEVENT
DTSTAMP:20260424T160845
DTSTART;TZID=Europe/Berlin:20260508T133000
DTEND;TZID=Europe/Berlin:20260508T173000
UID:261404681N-20260508T133000@VHSSINSHEIM
SUMMARY:Integrationskurs 223 - A1.1 (Allgemein) - nachmittags (261404681N) 
LOCATION:Haus der Volkshochschule; Raum 303, Muthstraße 16a, 74889 Sinsheim
END:VEVENT
BEGIN:VEVENT
DTSTAMP:20260424T160845
DTSTART;TZID=Europe/Berlin:20260511T133000
DTEND;TZID=Europe/Berlin:20260511T173000
UID:261404681N-20260511T133000@VHSSINSHEIM
SUMMARY:Integrationskurs 223 - A1.1 (Allgemein) - nachmittags (261404681N) 
LOCATION:Haus der Volkshochschule; Raum 303, Muthstraße 16a, 74889 Sinsheim
END:VEVENT
BEGIN:VEVENT
DTSTAMP:20260424T160845
DTSTART;TZID=Europe/Berlin:20260512T133000
DTEND;TZID=Europe/Berlin:20260512T173000
UID:261404681N-20260512T133000@VHSSINSHEIM
SUMMARY:Integrationskurs 223 - A1.1 (Allgemein) - nachmittags (261404681N) 
LOCATION:Haus der Volkshochschule; Raum 303, Muthstraße 16a, 74889 Sinsheim
END:VEVENT
BEGIN:VEVENT
DTSTAMP:20260424T160845
DTSTART;TZID=Europe/Berlin:20260513T133000
DTEND;TZID=Europe/Berlin:20260513T173000
UID:261404681N-20260513T133000@VHSSINSHEIM
SUMMARY:Integrationskurs 223 - A1.1 (Allgemein) - nachmittags (261404681N) 
LOCATION:Haus der Volkshochschule; Raum 303, Muthstraße 16a, 74889 Sinsheim
END:VEVENT
BEGIN:VEVENT
DTSTAMP:20260424T160845
DTSTART;TZID=Europe/Berlin:20260518T133000
DTEND;TZID=Europe/Berlin:20260518T173000
UID:261404681N-20260518T133000@VHSSINSHEIM
SUMMARY:Integrationskurs 223 - A1.1 (Allgemein) - nachmittags (261404681N) 
LOCATION:Haus der Volkshochschule; Raum 303, Muthstraße 16a, 74889 Sinsheim
END:VEVENT
BEGIN:VEVENT
DTSTAMP:20260424T160845
DTSTART;TZID=Europe/Berlin:20260519T133000
DTEND;TZID=Europe/Berlin:20260519T173000
UID:261404681N-20260519T133000@VHSSINSHEIM
SUMMARY:Integrationskurs 223 - A1.1 (Allgemein) - nachmittags (261404681N) 
LOCATION:Haus der Volkshochschule; Raum 303, Muthstraße 16a, 74889 Sinsheim
END:VEVENT
BEGIN:VEVENT
DTSTAMP:20260424T160845
DTSTART;TZID=Europe/Berlin:20260520T133000
DTEND;TZID=Europe/Berlin:20260520T173000
UID:261404681N-20260520T133000@VHSSINSHEIM
SUMMARY:Integrationskurs 223 - A1.1 (Allgemein) - nachmittags (261404681N) 
LOCATION:Haus der Volkshochschule; Raum 303, Muthstraße 16a, 74889 Sinsheim
END:VEVENT
BEGIN:VEVENT
DTSTAMP:20260424T160845
DTSTART;TZID=Europe/Berlin:20260521T133000
DTEND;TZID=Europe/Berlin:20260521T173000
UID:261404681N-20260521T133000@VHSSINSHEIM
SUMMARY:Integrationskurs 223 - A1.1 (Allgemein) - nachmittags (261404681N) 
LOCATION:Haus der Volkshochschule; Raum 303, Muthstraße 16a, 74889 Sinsheim
END:VEVENT
BEGIN:VEVENT
DTSTAMP:20260424T160845
DTSTART;TZID=Europe/Berlin:20260522T133000
DTEND;TZID=Europe/Berlin:20260522T173000
UID:261404681N-20260522T133000@VHSSINSHEIM
SUMMARY:Integrationskurs 223 - A1.1 (Allgemein) - nachmittags (261404681N) 
LOCATION:Haus der Volkshochschule; Raum 303, Muthstraße 16a, 74889 Sinsheim
END:VEVENT
BEGIN:VEVENT
DTSTAMP:20260424T160845
DTSTART;TZID=Europe/Berlin:20260608T133000
DTEND;TZID=Europe/Berlin:20260608T173000
UID:261404681N-20260608T133000@VHSSINSHEIM
SUMMARY:Integrationskurs 223 - A1.1 (Allgemein) - nachmittags (261404681N) 
LOCATION:Haus der Volkshochschule; Raum 303, Muthstraße 16a, 74889 Sinsheim
END:VEVENT
BEGIN:VEVENT
DTSTAMP:20260424T160845
DTSTART;TZID=Europe/Berlin:20260609T133000
DTEND;TZID=Europe/Berlin:20260609T173000
UID:261404681N-20260609T133000@VHSSINSHEIM
SUMMARY:Integrationskurs 223 - A1.1 (Allgemein) - nachmittags (261404681N) 
LOCATION:Haus der Volkshochschule; Raum 303, Muthstraße 16a, 74889 Sinsheim
END:VEVENT
BEGIN:VEVENT
DTSTAMP:20260424T160845
DTSTART;TZID=Europe/Berlin:20260610T133000
DTEND;TZID=Europe/Berlin:20260610T173000
UID:261404681N-20260610T133000@VHSSINSHEIM
SUMMARY:Integrationskurs 223 - A1.1 (Allgemein) - nachmittags (261404681N) 
LOCATION:Haus der Volkshochschule; Raum 303, Muthstraße 16a, 74889 Sinsheim
END:VEVENT
END:VCALENDAR