BEGIN:VCALENDAR
PRODID:http://www.kufer.de/kuferweb / DE
VERSION:2.0
METHOD:PUBLISH
CALSCALE:GREGORIAN
X-WR-TIMEZONE:Europe/Berlin
BEGIN:VTIMEZONE
TZID:Europe/Berlin
X-LIC-LOCATION:Europe/Berlin
BEGIN:DAYLIGHT
TZOFFSETFROM:+0100
TZOFFSETTO:+0200
TZNAME:CEST
DTSTART;TZID=Europe/Berlin:19700329T020000
RRULE:FREQ=YEARLY;INTERVAL=1;BYDAY=-1SU;BYMONTH=3
END:DAYLIGHT
BEGIN:STANDARD
TZOFFSETFROM:+0200
TZOFFSETTO:+0100
TZNAME:CET
DTSTART;TZID=Europe/Berlin:19701025T030000
RRULE:FREQ=YEARLY;INTERVAL=1;BYDAY=-1SU;BYMONTH=10
END:STANDARD
END:VTIMEZONE
BEGIN:VEVENT
DTSTAMP:20260424T114631
DTSTART;TZID=Europe/Berlin:20260423T190000
DTEND;TZID=Europe/Berlin:20260423T200000
UID:26130214NB-20260423T190000@VHSSINSHEIM
SUMMARY:Bauch, Beine, Po (26130214NB) 
LOCATION:Grundschule Neckarbischofsheim, Aula, , 
END:VEVENT
BEGIN:VEVENT
DTSTAMP:20260424T114631
DTSTART;TZID=Europe/Berlin:20260507T190000
DTEND;TZID=Europe/Berlin:20260507T200000
UID:26130214NB-20260507T190000@VHSSINSHEIM
SUMMARY:Bauch, Beine, Po (26130214NB) 
LOCATION:Grundschule Neckarbischofsheim, Aula, , 
END:VEVENT
BEGIN:VEVENT
DTSTAMP:20260424T114631
DTSTART;TZID=Europe/Berlin:20260521T190000
DTEND;TZID=Europe/Berlin:20260521T200000
UID:26130214NB-20260521T190000@VHSSINSHEIM
SUMMARY:Bauch, Beine, Po (26130214NB) 
LOCATION:Grundschule Neckarbischofsheim, Aula, , 
END:VEVENT
BEGIN:VEVENT
DTSTAMP:20260424T114631
DTSTART;TZID=Europe/Berlin:20260611T190000
DTEND;TZID=Europe/Berlin:20260611T200000
UID:26130214NB-20260611T190000@VHSSINSHEIM
SUMMARY:Bauch, Beine, Po (26130214NB) 
LOCATION:Grundschule Neckarbischofsheim, Aula, , 
END:VEVENT
BEGIN:VEVENT
DTSTAMP:20260424T114631
DTSTART;TZID=Europe/Berlin:20260625T190000
DTEND;TZID=Europe/Berlin:20260625T200000
UID:26130214NB-20260625T190000@VHSSINSHEIM
SUMMARY:Bauch, Beine, Po (26130214NB) 
LOCATION:Grundschule Neckarbischofsheim, Aula, , 
END:VEVENT
END:VCALENDAR